BEGIN:VCALENDAR
PRODID:-//eluceo/ical//2.0/EN
VERSION:2.0
CALSCALE:GREGORIAN
BEGIN:VEVENT
UID:776a2d1a668e696a79fdf8fcd02ee1d0
DTSTAMP:20260425T172345Z
SUMMARY:Open Stream Festival
DESCRIPTION:https://kermeszalest.com/fr/agenda/open-stream-festival
DTSTART;VALUE=DATE:20140809
DTEND;VALUE=DATE:20140810
LOCATION:
END:VEVENT
END:VCALENDAR
