BEGIN:VCALENDAR
PRODID:-//eluceo/ical//2.0/EN
VERSION:2.0
CALSCALE:GREGORIAN
BEGIN:VEVENT
UID:359183114bbaf9a20e1a3f173fa98ecf
DTSTAMP:20260425T142601Z
SUMMARY:Les Fabulations Ephémères
DESCRIPTION:https://kermeszalest.com/fr/agenda/les-fabulations-ephemeres
DTSTART;VALUE=DATE:20201017
DTEND;VALUE=DATE:20201018
LOCATION:366 chaussée de Wavre - 1040 Bruxelles.
END:VEVENT
END:VCALENDAR
