BEGIN:VCALENDAR
PRODID:-//eluceo/ical//2.0/EN
VERSION:2.0
CALSCALE:GREGORIAN
BEGIN:VEVENT
UID:ee8313683ab23b80e00fd87feb064b0e
DTSTAMP:20260421T215002Z
SUMMARY:Chez OscAAr
DESCRIPTION:https://kermeszalest.com/fr/agenda/la-flac
DTSTART;VALUE=DATE:20230617
DTEND;VALUE=DATE:20230618
LOCATION:7 Rue Oscar Carpentier \, 59770 Marly
END:VEVENT
END:VCALENDAR
