BEGIN:VCALENDAR
PRODID:-//eluceo/ical//2.0/EN
VERSION:2.0
CALSCALE:GREGORIAN
BEGIN:VEVENT
UID:e7299a3b349cc12d1f89b7899c326799
DTSTAMP:20260425T142349Z
SUMMARY:La Coloquinte
DESCRIPTION:https://kermeszalest.com/fr/agenda/la-coloquinte
DTSTART;VALUE=DATE:20220730
DTEND;VALUE=DATE:20220731
LOCATION:
END:VEVENT
END:VCALENDAR
