BEGIN:VCALENDAR
PRODID:-//eluceo/ical//2.0/EN
VERSION:2.0
CALSCALE:GREGORIAN
BEGIN:VEVENT
UID:b6a552b5be546e0e13b1155c04b13e03
DTSTAMP:20260425T172159Z
SUMMARY:L'Etable d'Hôtes
DESCRIPTION:https://kermeszalest.com/fr/agenda/l-etable-d-hotes
DTSTART;VALUE=DATE:20200909
DTEND;VALUE=DATE:20200910
LOCATION:rue de Tubize 4b\n    1460 Virginal
END:VEVENT
END:VCALENDAR
