BEGIN:VCALENDAR
PRODID:-//eluceo/ical//2.0/EN
VERSION:2.0
CALSCALE:GREGORIAN
BEGIN:VEVENT
UID:3b0ff17debff9e54891bc35133511b1b
DTSTAMP:20260423T205136Z
SUMMARY:Jamboree
DESCRIPTION:https://kermeszalest.com/fr/agenda/jamboree
DTSTART;VALUE=DATE:20231021
DTEND;VALUE=DATE:20231022
LOCATION:
END:VEVENT
END:VCALENDAR
