BEGIN:VCALENDAR
PRODID:-//eluceo/ical//2.0/EN
VERSION:2.0
CALSCALE:GREGORIAN
BEGIN:VEVENT
UID:d984e6d8dd42319f9d7b784f80d86251
DTSTAMP:20260425T172444Z
SUMMARY:Jam in wood
DESCRIPTION:https://kermeszalest.com/fr/agenda/jam-in-wood-1
DTSTART;VALUE=DATE:20140517
DTEND;VALUE=DATE:20140518
LOCATION:
END:VEVENT
END:VCALENDAR
