BEGIN:VCALENDAR
PRODID:-//eluceo/ical//2.0/EN
VERSION:2.0
CALSCALE:GREGORIAN
BEGIN:VEVENT
UID:d959d689f4305cf34138aee7c1e27814
DTSTAMP:20260425T113852Z
SUMMARY:Hors tribu
DESCRIPTION:https://kermeszalest.com/fr/agenda/hors-tribu-2
DTSTART;VALUE=DATE:20130805
DTEND;VALUE=DATE:20130806
LOCATION:
END:VEVENT
END:VCALENDAR
