BEGIN:VCALENDAR
PRODID:-//eluceo/ical//2.0/EN
VERSION:2.0
CALSCALE:GREGORIAN
BEGIN:VEVENT
UID:336f35986383b87453d566b4f79f0a4f
DTSTAMP:20260423T130830Z
SUMMARY:Goulash Disko
DESCRIPTION:https://kermeszalest.com/fr/agenda/goulash-disko
DTSTART;VALUE=DATE:20220914
DTEND;VALUE=DATE:20220916
LOCATION:
END:VEVENT
END:VCALENDAR
