BEGIN:VCALENDAR
PRODID:-//eluceo/ical//2.0/EN
VERSION:2.0
CALSCALE:GREGORIAN
BEGIN:VEVENT
UID:67ec283be333e73c369df05a4ce63124
DTSTAMP:20260426T022454Z
SUMMARY:gitaankesfoor
DESCRIPTION:https://kermeszalest.com/fr/agenda/gitaankesfoor
DTSTART;VALUE=DATE:20140905
DTEND;VALUE=DATE:20140906
LOCATION:
END:VEVENT
END:VCALENDAR
