BEGIN:VCALENDAR
PRODID:-//eluceo/ical//2.0/EN
VERSION:2.0
CALSCALE:GREGORIAN
BEGIN:VEVENT
UID:b876ff2389bfd95543a49e7908e46a68
DTSTAMP:20260425T142819Z
SUMMARY:Fête de la pomme
DESCRIPTION:https://kermeszalest.com/fr/agenda/fete-de-la-pomme
DTSTART;VALUE=DATE:20171008
DTEND;VALUE=DATE:20171009
LOCATION:
END:VEVENT
END:VCALENDAR
