BEGIN:VCALENDAR
PRODID:-//eluceo/ical//2.0/EN
VERSION:2.0
CALSCALE:GREGORIAN
BEGIN:VEVENT
UID:0141837821f9548c81a7b3735a3451b4
DTSTAMP:20260425T113852Z
SUMMARY:Fête de la musique
DESCRIPTION:https://kermeszalest.com/fr/agenda/fete-de-la-musique
DTSTART;VALUE=DATE:20170624
DTEND;VALUE=DATE:20170625
LOCATION:
END:VEVENT
END:VCALENDAR
