BEGIN:VCALENDAR
PRODID:-//eluceo/ical//2.0/EN
VERSION:2.0
CALSCALE:GREGORIAN
BEGIN:VEVENT
UID:0d6643de05048c4a284e25dd28bdf9b4
DTSTAMP:20260425T172337Z
SUMMARY:Festival Noorderzon
DESCRIPTION:https://kermeszalest.com/fr/agenda/festival-noorderzon
DTSTART;VALUE=DATE:20160822
DTEND;VALUE=DATE:20160823
LOCATION:
END:VEVENT
END:VCALENDAR
