BEGIN:VCALENDAR
PRODID:-//eluceo/ical//2.0/EN
VERSION:2.0
CALSCALE:GREGORIAN
BEGIN:VEVENT
UID:040bc90f30e7565f16a2b83e7dbf22b5
DTSTAMP:20260425T182417Z
SUMMARY:festival Hopla
DESCRIPTION:https://kermeszalest.com/fr/agenda/festival-hopla
DTSTART;VALUE=DATE:20170914
DTEND;VALUE=DATE:20170915
LOCATION:
END:VEVENT
END:VCALENDAR
