BEGIN:VCALENDAR
PRODID:-//eluceo/ical//2.0/EN
VERSION:2.0
CALSCALE:GREGORIAN
BEGIN:VEVENT
UID:3e027543b38991736848a411ee81a082
DTSTAMP:20260425T112923Z
SUMMARY:Ferm'stival
DESCRIPTION:https://kermeszalest.com/fr/agenda/ferm-stival
DTSTART;VALUE=DATE:20220703
DTEND;VALUE=DATE:20220704
LOCATION:rue sur Steppes 651\, 4870 Fraipont
END:VEVENT
END:VCALENDAR
