BEGIN:VCALENDAR
PRODID:-//eluceo/ical//2.0/EN
VERSION:2.0
CALSCALE:GREGORIAN
BEGIN:VEVENT
UID:d8b2bd63c8208914b4f12ad15daa49a7
DTSTAMP:20260425T113519Z
SUMMARY:Ebullition
DESCRIPTION:https://kermeszalest.com/fr/agenda/ebullition
DTSTART;VALUE=DATE:20161008
DTEND;VALUE=DATE:20161009
LOCATION:
END:VEVENT
END:VCALENDAR
