BEGIN:VCALENDAR
PRODID:-//eluceo/ical//2.0/EN
VERSION:2.0
CALSCALE:GREGORIAN
BEGIN:VEVENT
UID:57dd411aec97dd664cafaa5b67fb2940
DTSTAMP:20260425T172733Z
SUMMARY:La Ville Ailée
DESCRIPTION:https://kermeszalest.com/fr/agenda/de-gevleugelde-stad
DTSTART;VALUE=DATE:20150412
DTEND;VALUE=DATE:20150413
LOCATION:
END:VEVENT
END:VCALENDAR
