BEGIN:VCALENDAR
PRODID:-//eluceo/ical//2.0/EN
VERSION:2.0
CALSCALE:GREGORIAN
BEGIN:VEVENT
UID:fb54a16c1144b297128f809af4fbbc7f
DTSTAMP:20260425T142922Z
SUMMARY:Centre culturel
DESCRIPTION:https://kermeszalest.com/fr/agenda/centre-culturel-1
DTSTART;VALUE=DATE:20140917
DTEND;VALUE=DATE:20140918
LOCATION:
END:VEVENT
END:VCALENDAR
