BEGIN:VCALENDAR
PRODID:-//eluceo/ical//2.0/EN
VERSION:2.0
CALSCALE:GREGORIAN
BEGIN:VEVENT
UID:983b756148ce990a007e126e44976ae3
DTSTAMP:20260422T113146Z
SUMMARY:C'est pas d'la carotte !
DESCRIPTION:https://kermeszalest.com/fr/agenda/c-est-pas-d-la-carotte-1
DTSTART;VALUE=DATE:20220903
DTEND;VALUE=DATE:20220904
LOCATION:
END:VEVENT
END:VCALENDAR
