BEGIN:VCALENDAR
PRODID:-//eluceo/ical//2.0/EN
VERSION:2.0
CALSCALE:GREGORIAN
BEGIN:VEVENT
UID:5dc2ab0b3419f1b3e9bd90c2c155d241
DTSTAMP:20260425T113118Z
SUMMARY:Brocante
DESCRIPTION:https://kermeszalest.com/fr/agenda/brocante
DTSTART;VALUE=DATE:20140720
DTEND;VALUE=DATE:20140721
LOCATION:
END:VEVENT
END:VCALENDAR
