BEGIN:VCALENDAR
PRODID:-//eluceo/ical//2.0/EN
VERSION:2.0
CALSCALE:GREGORIAN
BEGIN:VEVENT
UID:aa07ca38916e058d5e14e3f404ea41bd
DTSTAMP:20260425T102429Z
SUMMARY:Braderie Urbaine
DESCRIPTION:https://kermeszalest.com/fr/agenda/braderie-urbaine
DTSTART;VALUE=DATE:20240706
DTEND;VALUE=DATE:20240707
LOCATION:
END:VEVENT
END:VCALENDAR
