BEGIN:VCALENDAR
PRODID:-//eluceo/ical//2.0/EN
VERSION:2.0
CALSCALE:GREGORIAN
BEGIN:VEVENT
UID:42af256e2bc7ac7d56d67f4ef3f731a6
DTSTAMP:20260425T172733Z
SUMMARY:Blue Bird Festival
DESCRIPTION:https://kermeszalest.com/fr/agenda/blue-bird-festival
DTSTART;VALUE=DATE:20160730
DTEND;VALUE=DATE:20160731
LOCATION:
END:VEVENT
END:VCALENDAR
