BEGIN:VCALENDAR
PRODID:-//eluceo/ical//2.0/EN
VERSION:2.0
CALSCALE:GREGORIAN
BEGIN:VEVENT
UID:56561bacc3c42584c7c72bacb435a286
DTSTAMP:20260425T172142Z
SUMMARY:Barassotiés
DESCRIPTION:https://kermeszalest.com/fr/agenda/barassoties
DTSTART;VALUE=DATE:20170318
DTEND;VALUE=DATE:20170319
LOCATION:
END:VEVENT
END:VCALENDAR
