BEGIN:VCALENDAR
PRODID:-//eluceo/ical//2.0/EN
VERSION:2.0
CALSCALE:GREGORIAN
BEGIN:VEVENT
UID:934dda3c4daeac703cc0c0bed3a9ec56
DTSTAMP:20260425T172914Z
SUMMARY:Balkanik festival
DESCRIPTION:https://kermeszalest.com/fr/agenda/balkanik-festival
DTSTART;VALUE=DATE:20170909
DTEND;VALUE=DATE:20170910
LOCATION:
END:VEVENT
END:VCALENDAR
