BEGIN:VCALENDAR
PRODID:-//eluceo/ical//2.0/EN
VERSION:2.0
CALSCALE:GREGORIAN
BEGIN:VEVENT
UID:c87e530091d8616394791d802e924bb5
DTSTAMP:20260422T165721Z
SUMMARY:Balkanik Festival
DESCRIPTION:https://kermeszalest.com/fr/agenda/balkanik-festival-1
DTSTART;VALUE=DATE:20240907
DTEND;VALUE=DATE:20240908
LOCATION:
END:VEVENT
END:VCALENDAR
