BEGIN:VCALENDAR
PRODID:-//eluceo/ical//2.0/EN
VERSION:2.0
CALSCALE:GREGORIAN
BEGIN:VEVENT
UID:05f3411be1cad1c2c13c3aae71483e0a
DTSTAMP:20260425T142958Z
SUMMARY:Au bout de nos Reves
DESCRIPTION:https://kermeszalest.com/fr/agenda/au-bout-de-nos-reves
DTSTART;VALUE=DATE:20230623
DTEND;VALUE=DATE:20230624
LOCATION:Grand'Route 141\,
END:VEVENT
END:VCALENDAR
