BEGIN:VCALENDAR
PRODID:-//eluceo/ical//2.0/EN
VERSION:2.0
CALSCALE:GREGORIAN
BEGIN:VEVENT
UID:d69432e2b5fc31157632b6edafcb5a07
DTSTAMP:20260425T111948Z
SUMMARY:Août en Eclats
DESCRIPTION:https://kermeszalest.com/fr/agenda/aout-en-eclats
DTSTART;VALUE=DATE:20220827
DTEND;VALUE=DATE:20220828
LOCATION:
END:VEVENT
END:VCALENDAR
