BEGIN:VCALENDAR
PRODID:-//eluceo/ical//2.0/EN
VERSION:2.0
CALSCALE:GREGORIAN
BEGIN:VEVENT
UID:914d59744ffaba3c6355536d038e9cde
DTSTAMP:20260425T172933Z
SUMMARY:Achterhoek festival
DESCRIPTION:https://kermeszalest.com/fr/agenda/achterhoek-festival
DTSTART;VALUE=DATE:20140803
DTEND;VALUE=DATE:20140901
LOCATION:
END:VEVENT
END:VCALENDAR
