BEGIN:VCALENDAR
PRODID:-//eluceo/ical//2.0/EN
VERSION:2.0
CALSCALE:GREGORIAN
BEGIN:VEVENT
UID:55c09b32014ba7367448afef4e6b3b6f
DTSTAMP:20260422T135405Z
SUMMARY:Une folle traversée du grand Mons
DESCRIPTION:https://kermeszalest.com/en/agenda/une-folle-traversee-du-grand
 -mons
DTSTART;VALUE=DATE:20200811
DTEND;VALUE=DATE:20200817
LOCATION:
END:VEVENT
END:VCALENDAR
