BEGIN:VCALENDAR
PRODID:-//eluceo/ical//2.0/EN
VERSION:2.0
CALSCALE:GREGORIAN
BEGIN:VEVENT
UID:4dc2a213eb233aa4038f9e7c7e5a8349
DTSTAMP:20260425T224247Z
SUMMARY:Social and Antifa Mobilisation
DESCRIPTION:https://kermeszalest.com/en/agenda/social-and-antifa-mobilisati
 on
DTSTART;VALUE=DATE:20240616
DTEND;VALUE=DATE:20240617
LOCATION:
END:VEVENT
END:VCALENDAR
