BEGIN:VCALENDAR
PRODID:-//eluceo/ical//2.0/EN
VERSION:2.0
CALSCALE:GREGORIAN
BEGIN:VEVENT
UID:620fe470455de3578c249e7808f869b3
DTSTAMP:20260425T172359Z
SUMMARY:Rue du bocage
DESCRIPTION:https://kermeszalest.com/en/agenda/rue-du-bocage
DTSTART;VALUE=DATE:20150829
DTEND;VALUE=DATE:20150830
LOCATION:
END:VEVENT
END:VCALENDAR
