BEGIN:VCALENDAR
PRODID:-//eluceo/ical//2.0/EN
VERSION:2.0
CALSCALE:GREGORIAN
BEGIN:VEVENT
UID:63c608dc1a9855e6977b8dbad37dbc48
DTSTAMP:20260424T034544Z
SUMMARY:Place aux Artistes
DESCRIPTION:https://kermeszalest.com/en/agenda/place-aux-artistes
DTSTART;VALUE=DATE:20210724
DTEND;VALUE=DATE:20210725
LOCATION:Boulevard d'Avroy
END:VEVENT
END:VCALENDAR
