BEGIN:VCALENDAR
PRODID:-//eluceo/ical//2.0/EN
VERSION:2.0
CALSCALE:GREGORIAN
BEGIN:VEVENT
UID:3f22f7b7de868be7b96ccbc43f02bd36
DTSTAMP:20260425T112923Z
SUMMARY:Pelicam
DESCRIPTION:https://kermeszalest.com/en/agenda/pelicam
DTSTART;VALUE=DATE:20160617
DTEND;VALUE=DATE:20160618
LOCATION:
END:VEVENT
END:VCALENDAR
