BEGIN:VCALENDAR
PRODID:-//eluceo/ical//2.0/EN
VERSION:2.0
CALSCALE:GREGORIAN
BEGIN:VEVENT
UID:98b631951c17510e8497d4e341a718ba
DTSTAMP:20260424T005117Z
SUMMARY:Marni
DESCRIPTION:https://kermeszalest.com/en/agenda/marni
DTSTART;VALUE=DATE:20240530
DTEND;VALUE=DATE:20240531
LOCATION:
END:VEVENT
END:VCALENDAR
