BEGIN:VCALENDAR
PRODID:-//eluceo/ical//2.0/EN
VERSION:2.0
CALSCALE:GREGORIAN
BEGIN:VEVENT
UID:fc957ffefaabf460a3830e5bdca82562
DTSTAMP:20260425T191121Z
SUMMARY:Maison des cultures
DESCRIPTION:https://kermeszalest.com/en/agenda/maison-des-cultures
DTSTART;VALUE=DATE:20150926
DTEND;VALUE=DATE:20150927
LOCATION:
END:VEVENT
END:VCALENDAR
