BEGIN:VCALENDAR
PRODID:-//eluceo/ical//2.0/EN
VERSION:2.0
CALSCALE:GREGORIAN
BEGIN:VEVENT
UID:8d9cb42a7c15eddd46bc74a6ca4bbc8e
DTSTAMP:20260425T111854Z
SUMMARY:Magasin 4
DESCRIPTION:https://kermeszalest.com/en/agenda/magasin-4
DTSTART;VALUE=DATE:20161022
DTEND;VALUE=DATE:20161023
LOCATION:
END:VEVENT
END:VCALENDAR
