BEGIN:VCALENDAR
PRODID:-//eluceo/ical//2.0/EN
VERSION:2.0
CALSCALE:GREGORIAN
BEGIN:VEVENT
UID:44787a3309e69f59e4f9ad364b68b286
DTSTAMP:20260425T113740Z
SUMMARY:Les Tailleurs
DESCRIPTION:https://kermeszalest.com/en/agenda/les-tailleurs
DTSTART;VALUE=DATE:20191005
DTEND;VALUE=DATE:20191006
LOCATION:
END:VEVENT
END:VCALENDAR
