BEGIN:VCALENDAR
PRODID:-//eluceo/ical//2.0/EN
VERSION:2.0
CALSCALE:GREGORIAN
BEGIN:VEVENT
UID:3a833709cd58befb0c9f65d90089da08
DTSTAMP:20260425T172159Z
SUMMARY:Les Macralles
DESCRIPTION:https://kermeszalest.com/en/agenda/les-macralles
DTSTART;VALUE=DATE:20150720
DTEND;VALUE=DATE:20150721
LOCATION:
END:VEVENT
END:VCALENDAR
