BEGIN:VCALENDAR
PRODID:-//eluceo/ical//2.0/EN
VERSION:2.0
CALSCALE:GREGORIAN
BEGIN:VEVENT
UID:fec48e814de2c3b0bdd05c10927fe1b2
DTSTAMP:20260422T111921Z
SUMMARY:Le Moulin Fantôme
DESCRIPTION:https://kermeszalest.com/en/agenda/le-moulin-fantome
DTSTART;VALUE=DATE:20200911
DTEND;VALUE=DATE:20200912
LOCATION:142 rue du Coeurcq \n1480 Tubize
END:VEVENT
END:VCALENDAR
