BEGIN:VCALENDAR
PRODID:-//eluceo/ical//2.0/EN
VERSION:2.0
CALSCALE:GREGORIAN
BEGIN:VEVENT
UID:01d69dc168ac8c43d89b3e7b548ca2f5
DTSTAMP:20260425T185551Z
SUMMARY:La KermosZyclette
DESCRIPTION:https://kermeszalest.com/en/agenda/la-kermoszyclette-1
DTSTART;VALUE=DATE:20240518
DTEND;VALUE=DATE:20240519
LOCATION:
END:VEVENT
END:VCALENDAR
