BEGIN:VCALENDAR
PRODID:-//eluceo/ical//2.0/EN
VERSION:2.0
CALSCALE:GREGORIAN
BEGIN:VEVENT
UID:f92997446a036af233dd123d5648e754
DTSTAMP:20260421T005621Z
SUMMARY:La Ferme !
DESCRIPTION:https://kermeszalest.com/en/agenda/la-ferme
DTSTART;VALUE=DATE:20231019
DTEND;VALUE=DATE:20231020
LOCATION:
END:VEVENT
END:VCALENDAR
