BEGIN:VCALENDAR
PRODID:-//eluceo/ical//2.0/EN
VERSION:2.0
CALSCALE:GREGORIAN
BEGIN:VEVENT
UID:6ba647f48efe537092ba477c6a476d57
DTSTAMP:20260425T142220Z
SUMMARY:L'entrepot
DESCRIPTION:https://kermeszalest.com/en/agenda/l-entrepot-arlon-be
DTSTART;VALUE=DATE:20190413
DTEND;VALUE=DATE:20190414
LOCATION:
END:VEVENT
END:VCALENDAR
