BEGIN:VCALENDAR
PRODID:-//eluceo/ical//2.0/EN
VERSION:2.0
CALSCALE:GREGORIAN
BEGIN:VEVENT
UID:ca71c80bd9153f195219a20d7671b38c
DTSTAMP:20260422T205417Z
SUMMARY:Kiosk Art
DESCRIPTION:https://kermeszalest.com/en/agenda/kiosk-art
DTSTART;VALUE=DATE:20220729
DTEND;VALUE=DATE:20220730
LOCATION:
END:VEVENT
END:VCALENDAR
