BEGIN:VCALENDAR
PRODID:-//eluceo/ical//2.0/EN
VERSION:2.0
CALSCALE:GREGORIAN
BEGIN:VEVENT
UID:44958ab0b15a0a2f6e2860e1ff7410a0
DTSTAMP:20260425T141922Z
SUMMARY:J'ai bistrot
DESCRIPTION:https://kermeszalest.com/en/agenda/j-ai-bistrot
DTSTART;VALUE=DATE:20160614
DTEND;VALUE=DATE:20160615
LOCATION:
END:VEVENT
END:VCALENDAR
