BEGIN:VCALENDAR
PRODID:-//eluceo/ical//2.0/EN
VERSION:2.0
CALSCALE:GREGORIAN
BEGIN:VEVENT
UID:dfe1cb11918c774c76a05bf3a4f018bd
DTSTAMP:20260425T144317Z
SUMMARY:Gaume Jazz Festival
DESCRIPTION:https://kermeszalest.com/en/agenda/gaume-jazz-festival
DTSTART;VALUE=DATE:20140810
DTEND;VALUE=DATE:20140811
LOCATION:
END:VEVENT
END:VCALENDAR
