BEGIN:VCALENDAR
PRODID:-//eluceo/ical//2.0/EN
VERSION:2.0
CALSCALE:GREGORIAN
BEGIN:VEVENT
UID:071f5bac2975d7c98d9dc0d1253ab7d1
DTSTAMP:20260425T151913Z
SUMMARY:Fête de l'environnement
DESCRIPTION:https://kermeszalest.com/en/agenda/fete-de-l-environnement
DTSTART;VALUE=DATE:20180603
DTEND;VALUE=DATE:20180604
LOCATION:
END:VEVENT
END:VCALENDAR
