BEGIN:VCALENDAR
PRODID:-//eluceo/ical//2.0/EN
VERSION:2.0
CALSCALE:GREGORIAN
BEGIN:VEVENT
UID:71d389bb71999fd13c01dd47686792d1
DTSTAMP:20260425T202130Z
SUMMARY:WOMAD festival
DESCRIPTION:https://kermeszalest.com/en/agenda/festival-womad-chartlon
DTSTART;VALUE=DATE:20180726
DTEND;VALUE=DATE:20180727
LOCATION:
END:VEVENT
END:VCALENDAR
