BEGIN:VCALENDAR
PRODID:-//eluceo/ical//2.0/EN
VERSION:2.0
CALSCALE:GREGORIAN
BEGIN:VEVENT
UID:9bfc693dd667a63723abd46f854c539e
DTSTAMP:20260425T125159Z
SUMMARY:Festival HopHopHop
DESCRIPTION:https://kermeszalest.com/en/agenda/festival-hophophop
DTSTART;VALUE=DATE:20220712
DTEND;VALUE=DATE:20220713
LOCATION:
END:VEVENT
END:VCALENDAR
