BEGIN:VCALENDAR
PRODID:-//eluceo/ical//2.0/EN
VERSION:2.0
CALSCALE:GREGORIAN
BEGIN:VEVENT
UID:21ff18ea32b3bf3d6ca02dfb2d283f15
DTSTAMP:20260425T152336Z
SUMMARY:Festival des libertés
DESCRIPTION:https://kermeszalest.com/en/agenda/festival-des-libertes
DTSTART;VALUE=DATE:20121022
DTEND;VALUE=DATE:20121023
LOCATION:
END:VEVENT
END:VCALENDAR
