BEGIN:VCALENDAR
PRODID:-//eluceo/ical//2.0/EN
VERSION:2.0
CALSCALE:GREGORIAN
BEGIN:VEVENT
UID:40f72c8aa32952cc18d786f1d22d8d4e
DTSTAMP:20260425T114159Z
SUMMARY:festival de la marionnette
DESCRIPTION:https://kermeszalest.com/en/agenda/festival-de-la-marionnette
DTSTART;VALUE=DATE:20170930
DTEND;VALUE=DATE:20171001
LOCATION:
END:VEVENT
END:VCALENDAR
